BEGIN:VCALENDAR
VERSION:2.0
PRODID:-//Washington State University Everett - ECPv6.1.3//NONSGML v1.0//EN
CALSCALE:GREGORIAN
METHOD:PUBLISH
X-ORIGINAL-URL:https://everett.wsu.edu
X-WR-CALDESC:Events for Washington State University Everett
REFRESH-INTERVAL;VALUE=DURATION:PT1H
X-Robots-Tag:noindex
X-PUBLISHED-TTL:PT1H
BEGIN:VTIMEZONE
TZID:America/Los_Angeles
BEGIN:DAYLIGHT
TZOFFSETFROM:-0800
TZOFFSETTO:-0700
TZNAME:PDT
DTSTART:20210314T100000
END:DAYLIGHT
BEGIN:STANDARD
TZOFFSETFROM:-0700
TZOFFSETTO:-0800
TZNAME:PST
DTSTART:20211107T090000
END:STANDARD
END:VTIMEZONE
BEGIN:VEVENT
DTSTART;TZID=America/Los_Angeles:20211113T193000
DTEND;TZID=America/Los_Angeles:20211113T230000
DTSTAMP:20260420T180826
CREATED:20211112T223246Z
LAST-MODIFIED:20211112T223246Z
UID:10000382-1636831800-1636844400@everett.wsu.edu
SUMMARY:WSU Football Watch Party
DESCRIPTION:Join the WSU Alumni Association Snohomish County chapter at 13th Ave Pub & Eatery in Lynnwood for all WSU football games.
URL:https://everett.wsu.edu/event/wsu-football-watch-party/
LOCATION:13th Ave Pub & Eatery\, 1233 164th St SW Suite J\, Lynnwood\, WA\, 98087
END:VEVENT
BEGIN:VEVENT
DTSTART;TZID=America/Los_Angeles:20211119T173000
DTEND;TZID=America/Los_Angeles:20211119T210000
DTSTAMP:20260420T180826
CREATED:20211112T223329Z
LAST-MODIFIED:20211112T223329Z
UID:10000384-1637343000-1637355600@everett.wsu.edu
SUMMARY:WSU Football Watch Party
DESCRIPTION:Join the WSU Alumni Association Snohomish County chapter at 13th Ave Pub & Eatery in Lynnwood for all WSU football games.
URL:https://everett.wsu.edu/event/wsu-football-watch-party-2/
LOCATION:13th Ave Pub & Eatery\, 1233 164th St SW Suite J\, Lynnwood\, WA\, 98087
END:VEVENT
END:VCALENDAR